BEGIN:VCALENDAR
VERSION:2.0
PRODID:-//Big Brothers Big Sisters of Central Indiana - ECPv6.15.17//NONSGML v1.0//EN
CALSCALE:GREGORIAN
METHOD:PUBLISH
X-WR-CALNAME:Big Brothers Big Sisters of Central Indiana
X-ORIGINAL-URL:https://www.bebigforkids.org
X-WR-CALDESC:Events for Big Brothers Big Sisters of Central Indiana
REFRESH-INTERVAL;VALUE=DURATION:PT1H
X-Robots-Tag:noindex
X-PUBLISHED-TTL:PT1H
BEGIN:VTIMEZONE
TZID:UTC
BEGIN:STANDARD
TZOFFSETFROM:+0000
TZOFFSETTO:+0000
TZNAME:UTC
DTSTART:20230101T000000
END:STANDARD
END:VTIMEZONE
BEGIN:VEVENT
DTSTART;TZID=UTC:20240406T123000
DTEND;TZID=UTC:20240406T140000
DTSTAMP:20260420T082900
CREATED:20240201T175454Z
LAST-MODIFIED:20240226T151919Z
UID:10000047-1712406600-1712412000@www.bebigforkids.org
SUMMARY:Match Activity: Art Reach
DESCRIPTION:October              03              \, 2026            \n            The Main Event          \n            Join the Indianapolis Art Center for unique high-quality art lesson. Each session will be different\, and you won’t know until you attend! This will be a fun way for matches to express themselves through art and have fun while doing it. \n\n                            Email Us to Learn More
URL:https://www.bebigforkids.org/event/match-activity-art-reach/2024-04-06/
ATTACH;FMTTYPE=image/jpeg:https://www.bebigforkids.org/wp-content/uploads/2024/02/20190921_122557-scaled.jpg
END:VEVENT
END:VCALENDAR