BEGIN:VCALENDAR
VERSION:2.0
PRODID:-//Big Brothers Big Sisters of Central Indiana - ECPv6.15.17//NONSGML v1.0//EN
CALSCALE:GREGORIAN
METHOD:PUBLISH
X-WR-CALNAME:Big Brothers Big Sisters of Central Indiana
X-ORIGINAL-URL:https://www.bebigforkids.org
X-WR-CALDESC:Events for Big Brothers Big Sisters of Central Indiana
REFRESH-INTERVAL;VALUE=DURATION:PT1H
X-Robots-Tag:noindex
X-PUBLISHED-TTL:PT1H
BEGIN:VTIMEZONE
TZID:America/Indiana/Indianapolis
BEGIN:DAYLIGHT
TZOFFSETFROM:-0500
TZOFFSETTO:-0400
TZNAME:EDT
DTSTART:20230312T070000
END:DAYLIGHT
BEGIN:STANDARD
TZOFFSETFROM:-0400
TZOFFSETTO:-0500
TZNAME:EST
DTSTART:20231105T060000
END:STANDARD
BEGIN:DAYLIGHT
TZOFFSETFROM:-0500
TZOFFSETTO:-0400
TZNAME:EDT
DTSTART:20240310T070000
END:DAYLIGHT
BEGIN:STANDARD
TZOFFSETFROM:-0400
TZOFFSETTO:-0500
TZNAME:EST
DTSTART:20241103T060000
END:STANDARD
BEGIN:DAYLIGHT
TZOFFSETFROM:-0500
TZOFFSETTO:-0400
TZNAME:EDT
DTSTART:20250309T070000
END:DAYLIGHT
BEGIN:STANDARD
TZOFFSETFROM:-0400
TZOFFSETTO:-0500
TZNAME:EST
DTSTART:20251102T060000
END:STANDARD
END:VTIMEZONE
BEGIN:VEVENT
DTSTART;TZID=America/Indiana/Indianapolis:20240815T100000
DTEND;TZID=America/Indiana/Indianapolis:20240815T113000
DTSTAMP:20260424T124608
CREATED:20240724T130252Z
LAST-MODIFIED:20240724T130254Z
UID:10000077-1723716000-1723721400@www.bebigforkids.org
SUMMARY:Big Sisters of Central Indiana 50th Anniversary Brunch
DESCRIPTION:May              23              \, 2026            \n            Match Activity: Big Day of Little Adventures          \n            \n\nJoin us for the Big Sisters 50th Anniversary Brunch\, a gathering of Alumni Big Sisters to celebrate the evolution of BBBSCI. \n\n\n\n\n\n\n\n\n\n\n\n\n\n\n\n\n\n\n\n                            Email Us to Learn More\n                      \n        \n      \n    \n  \n\n\n\n\n\nABOUT THIS EVENT:\n\n\n\nIn honor of 50 years since the formation of Big Sisters of Central Indiana\, please join us for brunch to celebrate the evolution of the Big Brothers Big Sisters program. Enjoy a delicious brunch\, connect with fellow Big Sister Alumnae\, and hear from current BBBSCI Staff as we celebrate the past 50 years of empowering and supporting young women in our community. Don’t miss this opportunity to be a part of this legacy with us! \n\n\n\nFor questions\, please contact Joe Trentadue\, Philanthropy and Giving Societies Manager\, at jtrentadue@bbbsci.org.
URL:https://www.bebigforkids.org/event/big-sisters-of-central-indiana-50th-anniversary-brunch/
ATTACH;FMTTYPE=image/jpeg:https://www.bebigforkids.org/wp-content/uploads/2024/07/brunch.jpg
END:VEVENT
END:VCALENDAR