BEGIN:VCALENDAR
VERSION:2.0
PRODID:-//Big Brothers Big Sisters of Central Indiana - ECPv6.15.17//NONSGML v1.0//EN
CALSCALE:GREGORIAN
METHOD:PUBLISH
X-WR-CALNAME:Big Brothers Big Sisters of Central Indiana
X-ORIGINAL-URL:https://www.bebigforkids.org
X-WR-CALDESC:Events for Big Brothers Big Sisters of Central Indiana
REFRESH-INTERVAL;VALUE=DURATION:PT1H
X-Robots-Tag:noindex
X-PUBLISHED-TTL:PT1H
BEGIN:VTIMEZONE
TZID:America/Indiana/Indianapolis
BEGIN:DAYLIGHT
TZOFFSETFROM:-0500
TZOFFSETTO:-0400
TZNAME:EDT
DTSTART:20230312T070000
END:DAYLIGHT
BEGIN:STANDARD
TZOFFSETFROM:-0400
TZOFFSETTO:-0500
TZNAME:EST
DTSTART:20231105T060000
END:STANDARD
BEGIN:DAYLIGHT
TZOFFSETFROM:-0500
TZOFFSETTO:-0400
TZNAME:EDT
DTSTART:20240310T070000
END:DAYLIGHT
BEGIN:STANDARD
TZOFFSETFROM:-0400
TZOFFSETTO:-0500
TZNAME:EST
DTSTART:20241103T060000
END:STANDARD
BEGIN:DAYLIGHT
TZOFFSETFROM:-0500
TZOFFSETTO:-0400
TZNAME:EDT
DTSTART:20250309T070000
END:DAYLIGHT
BEGIN:STANDARD
TZOFFSETFROM:-0400
TZOFFSETTO:-0500
TZNAME:EST
DTSTART:20251102T060000
END:STANDARD
END:VTIMEZONE
BEGIN:VEVENT
DTSTART;TZID=America/Indiana/Indianapolis:20240903T180000
DTEND;TZID=America/Indiana/Indianapolis:20240903T200000
DTSTAMP:20260422T093038
CREATED:20240826T154256Z
LAST-MODIFIED:20240826T154257Z
UID:10000087-1725386400-1725393600@www.bebigforkids.org
SUMMARY:Match Activity: Game Night
DESCRIPTION:May              23              \, 2026            \n            Match Activity: Big Day of Little Adventures          \n            Join us for our signature event Game Night during Suicide Prevention Month with American Foundation for Suicide Prevention! \n\n                            Email Us to Learn More\n                      \n        \n      \n    \n  \n\n\n\n\n\nABOUT THIS EVENT:\n\n\n\nBBBSCI invites Bigs and Littles to join us for our signature event Game Night! Matches will be able to enjoy board/card games\, hangout area equipped with a ping-pong table\, pool-table\, foosball\, and more space to play. \n\n\n\nThis game night will bring awareness to Suicide Prevention Month with American Foundation for Suicide Prevention. There will be a brief (and age appropriate) information session from AFSP with different activities such as friendship bracelet making\, self care plan collages\, postcards of positivity\, t-shirt decorating\, and giveaways! \n\n\n\nDinner\, snacks\, and drinks will be provided. \n\n\n\nThriving Indicator: Social Skills
URL:https://www.bebigforkids.org/event/match-activity-game-night-3/
ATTACH;FMTTYPE=image/jpeg:https://www.bebigforkids.org/wp-content/uploads/2024/08/Game-Night-September.jpg
END:VEVENT
END:VCALENDAR