BEGIN:VCALENDAR
VERSION:2.0
PRODID:-//Big Brothers Big Sisters of Central Indiana - ECPv6.15.17//NONSGML v1.0//EN
CALSCALE:GREGORIAN
METHOD:PUBLISH
X-ORIGINAL-URL:https://www.bebigforkids.org
X-WR-CALDESC:Events for Big Brothers Big Sisters of Central Indiana
REFRESH-INTERVAL;VALUE=DURATION:PT1H
X-Robots-Tag:noindex
X-PUBLISHED-TTL:PT1H
BEGIN:VTIMEZONE
TZID:America/Indiana/Indianapolis
BEGIN:DAYLIGHT
TZOFFSETFROM:-0500
TZOFFSETTO:-0400
TZNAME:EDT
DTSTART:20230312T070000
END:DAYLIGHT
BEGIN:STANDARD
TZOFFSETFROM:-0400
TZOFFSETTO:-0500
TZNAME:EST
DTSTART:20231105T060000
END:STANDARD
BEGIN:DAYLIGHT
TZOFFSETFROM:-0500
TZOFFSETTO:-0400
TZNAME:EDT
DTSTART:20240310T070000
END:DAYLIGHT
BEGIN:STANDARD
TZOFFSETFROM:-0400
TZOFFSETTO:-0500
TZNAME:EST
DTSTART:20241103T060000
END:STANDARD
BEGIN:DAYLIGHT
TZOFFSETFROM:-0500
TZOFFSETTO:-0400
TZNAME:EDT
DTSTART:20250309T070000
END:DAYLIGHT
BEGIN:STANDARD
TZOFFSETFROM:-0400
TZOFFSETTO:-0500
TZNAME:EST
DTSTART:20251102T060000
END:STANDARD
END:VTIMEZONE
BEGIN:VEVENT
DTSTART;TZID=America/Indiana/Indianapolis:20240913T180000
DTEND;TZID=America/Indiana/Indianapolis:20240913T200000
DTSTAMP:20260421T100134
CREATED:20240826T155953Z
LAST-MODIFIED:20240826T155955Z
UID:10000090-1726250400-1726257600@www.bebigforkids.org
SUMMARY:Match Activity: Canvas Painting
DESCRIPTION:October              03              \, 2026            \n            The Main Event          \n            \n\nPlease join BBBSCI for canvas painting with The Purple Palette! \n\n\n\n                            Email Us to Learn More\n                      \n        \n      \n    \n  \n\n\n\n\n\nABOUT THIS EVENT:\n\n\n\nJoin the Purple Palette as they lead us in a step-by-step canvas painting portrait. This session will be a fun painting of ‘Foxy’ which is will be a fox. Dinner and snacks will be provided. \n\n\n\nThe Thriving Indicator for this event is Confidence.
URL:https://www.bebigforkids.org/event/match-activity-canvas-painting/
ATTACH;FMTTYPE=image/jpeg:https://www.bebigforkids.org/wp-content/uploads/2024/08/Canvas-Paint.jpg
END:VEVENT
BEGIN:VEVENT
DTSTART;TZID=America/Indiana/Indianapolis:20240913T180000
DTEND;TZID=America/Indiana/Indianapolis:20240913T203000
DTSTAMP:20260421T100134
CREATED:20240823T155756Z
LAST-MODIFIED:20240823T155757Z
UID:10000085-1726250400-1726259400@www.bebigforkids.org
SUMMARY:Friday Fundraising
DESCRIPTION:October              03              \, 2026            \n            The Main Event          \n            Kickoff The Big Blitz with us at the Provider Café with some craft cocktails\, food\, games\, and a special performance by Alumni Little Damon Karl. \n\n                            Learn more & RSVP\n                      \n        \n      \n    \n  \n\n\n\n\n\nABOUT THIS EVENT:\n\n\n\nIt’s time to kick off our Giving Tuesday campaign – the Big Blitz! Celebrate its start with Friday Fundraising at the Provider Café with some craft cocktails\, food\, games\, and a special performance by Alumni Little Damon Karl. \n\n\n\nThe first 25 Bigs to RSVP will enjoy a free drink on us! After that\,10% each drink ordered at the bar will go towards the Big Blitz. Raise your glasses while also raising some money for youth mentorship in Central Indiana!
URL:https://www.bebigforkids.org/event/friday-fundraising/
ATTACH;FMTTYPE=image/jpeg:https://www.bebigforkids.org/wp-content/uploads/2024/08/DSC_1186-e1724428620881.jpg
END:VEVENT
END:VCALENDAR