BEGIN:VCALENDAR
VERSION:2.0
PRODID:-//Big Brothers Big Sisters of Central Indiana - ECPv6.15.17//NONSGML v1.0//EN
CALSCALE:GREGORIAN
METHOD:PUBLISH
X-ORIGINAL-URL:https://www.bebigforkids.org
X-WR-CALDESC:Events for Big Brothers Big Sisters of Central Indiana
REFRESH-INTERVAL;VALUE=DURATION:PT1H
X-Robots-Tag:noindex
X-PUBLISHED-TTL:PT1H
BEGIN:VTIMEZONE
TZID:America/Indiana/Indianapolis
BEGIN:DAYLIGHT
TZOFFSETFROM:-0500
TZOFFSETTO:-0400
TZNAME:EDT
DTSTART:20230312T070000
END:DAYLIGHT
BEGIN:STANDARD
TZOFFSETFROM:-0400
TZOFFSETTO:-0500
TZNAME:EST
DTSTART:20231105T060000
END:STANDARD
BEGIN:DAYLIGHT
TZOFFSETFROM:-0500
TZOFFSETTO:-0400
TZNAME:EDT
DTSTART:20240310T070000
END:DAYLIGHT
BEGIN:STANDARD
TZOFFSETFROM:-0400
TZOFFSETTO:-0500
TZNAME:EST
DTSTART:20241103T060000
END:STANDARD
BEGIN:DAYLIGHT
TZOFFSETFROM:-0500
TZOFFSETTO:-0400
TZNAME:EDT
DTSTART:20250309T070000
END:DAYLIGHT
BEGIN:STANDARD
TZOFFSETFROM:-0400
TZOFFSETTO:-0500
TZNAME:EST
DTSTART:20251102T060000
END:STANDARD
END:VTIMEZONE
BEGIN:VEVENT
DTSTART;TZID=America/Indiana/Indianapolis:20241206T180000
DTEND;TZID=America/Indiana/Indianapolis:20241206T200000
DTSTAMP:20260423T095824
CREATED:20241021T135353Z
LAST-MODIFIED:20241021T135354Z
UID:10000115-1733508000-1733515200@www.bebigforkids.org
SUMMARY:Match Activity: Holiday Movie Night
DESCRIPTION:May              23              \, 2026            \n            Match Activity: Big Day of Little Adventures          \n            \n\nJoin us for a fun Friday Holiday Movie Night\, crafts\, and much more! \n\n\n\n                            Email Us to Learn More\n                      \n        \n      \n    \n  \n\n\n\n\n\nLearn more:\n\n\n\nBBBSCI invites Matches to join us for a fun Holiday Movie Night! This night will include making hot chocolate\, cookies\, popcorn\, crafting\, and more. There will also be an opportunity for Matches to make cool art projects such as making paper bag snowflakes and more. This will be a fun night for Matches to connect and have a great time! \n\n\n\nThe Thriving Indicator for this event is Social Skills.
URL:https://www.bebigforkids.org/event/match-activity-holiday-movie-night/
ATTACH;FMTTYPE=image/jpeg:https://www.bebigforkids.org/wp-content/uploads/2024/10/Holiday-Movie-Night.jpg
END:VEVENT
END:VCALENDAR