BEGIN:VCALENDAR
VERSION:2.0
PRODID:-//Big Brothers Big Sisters of Central Indiana - ECPv6.15.17//NONSGML v1.0//EN
CALSCALE:GREGORIAN
METHOD:PUBLISH
X-ORIGINAL-URL:https://www.bebigforkids.org
X-WR-CALDESC:Events for Big Brothers Big Sisters of Central Indiana
REFRESH-INTERVAL;VALUE=DURATION:PT1H
X-Robots-Tag:noindex
X-PUBLISHED-TTL:PT1H
BEGIN:VTIMEZONE
TZID:America/Indiana/Indianapolis
BEGIN:DAYLIGHT
TZOFFSETFROM:-0500
TZOFFSETTO:-0400
TZNAME:EDT
DTSTART:20240310T070000
END:DAYLIGHT
BEGIN:STANDARD
TZOFFSETFROM:-0400
TZOFFSETTO:-0500
TZNAME:EST
DTSTART:20241103T060000
END:STANDARD
BEGIN:DAYLIGHT
TZOFFSETFROM:-0500
TZOFFSETTO:-0400
TZNAME:EDT
DTSTART:20250309T070000
END:DAYLIGHT
BEGIN:STANDARD
TZOFFSETFROM:-0400
TZOFFSETTO:-0500
TZNAME:EST
DTSTART:20251102T060000
END:STANDARD
BEGIN:DAYLIGHT
TZOFFSETFROM:-0500
TZOFFSETTO:-0400
TZNAME:EDT
DTSTART:20260308T070000
END:DAYLIGHT
BEGIN:STANDARD
TZOFFSETFROM:-0400
TZOFFSETTO:-0500
TZNAME:EST
DTSTART:20261101T060000
END:STANDARD
END:VTIMEZONE
BEGIN:VEVENT
DTSTART;TZID=America/Indiana/Indianapolis:20250123T110000
DTEND;TZID=America/Indiana/Indianapolis:20250123T130000
DTSTAMP:20260424T094345
CREATED:20241217T213940Z
LAST-MODIFIED:20241217T213944Z
UID:10000140-1737630000-1737637200@www.bebigforkids.org
SUMMARY:The Big Sip
DESCRIPTION:May              23              \, 2026            \n            Match Activity: Big Day of Little Adventures          \n            To celebrate National Mentoring Month\, we invite you to stop-in at a Starbucks near you to chat with our staff at our coffee shop office hours\, known as The Big Sip\, this January. \n\n                      \n        \n      \n    \n  \n\n\n\n\n\nABOUT THIS EVENT:\n\n\n\nThroughout the month of January\, our staff will be at different Starbucks locations across Central Indiana so that you can stop in and chat with them about our program! Find out which Starbucks you can visit them at below.  \n\n\n\n\nVisit Megan\, Director of Volunteer and Community Engagement\, in Marion County.    Address: 1420 N Capitol Ave\, Indianapolis\, IN 46202 \n\n\n\nVisit Eric\, Manager of Community Engagement\, in Johnson County.                                     Address: 895 E State Rd\, Greenwood\, IN 46143 \n\n\n\n\n\n\nVisit Kayleigh\, Volunteer and Community Engagement Coordinator\, in Hamilton County.                                     Address: 16978 Clover Rd\, Noblesville\, IN 46060
URL:https://www.bebigforkids.org/event/the-big-sip/2025-01-23/
ATTACH;FMTTYPE=image/png:https://www.bebigforkids.org/wp-content/uploads/2024/12/Coffee-Shop-Office-Hours-Flyers-1.png
END:VEVENT
BEGIN:VEVENT
DTSTART;TZID=America/Indiana/Indianapolis:20250123T180000
DTEND;TZID=America/Indiana/Indianapolis:20250123T193000
DTSTAMP:20260424T094345
CREATED:20250110T185259Z
LAST-MODIFIED:20250110T185301Z
UID:10000144-1737655200-1737660600@www.bebigforkids.org
SUMMARY:Open to Public: Big Stories\, Sip Bier
DESCRIPTION:May              23              \, 2026            \n            Match Activity: Big Day of Little Adventures          \n            \n\nJoin us at Bier Brewery in Carmel to learn more about Big Brothers Big Sisters and how you can get connected! \n\n\n\n                            Reserve a Spot\n                      \n        \n      \n    \n  \n\n\n\n\n\nLearn more:\n\n\n\nCome learn about how you can get involved with Big Brothers Big Sisters of Central Indiana. Stop by after work and bring a friend – the first 20 sign-ups will receive complimentary food!
URL:https://www.bebigforkids.org/event/open-to-public-big-stories-sip-bier/
ATTACH;FMTTYPE=image/jpeg:https://www.bebigforkids.org/wp-content/uploads/2025/01/Big-Stories-Sip-Bier.jpg
END:VEVENT
END:VCALENDAR