BEGIN:VCALENDAR
VERSION:2.0
PRODID:-//Big Brothers Big Sisters of Central Indiana - ECPv6.15.17//NONSGML v1.0//EN
CALSCALE:GREGORIAN
METHOD:PUBLISH
X-WR-CALNAME:Big Brothers Big Sisters of Central Indiana
X-ORIGINAL-URL:https://www.bebigforkids.org
X-WR-CALDESC:Events for Big Brothers Big Sisters of Central Indiana
REFRESH-INTERVAL;VALUE=DURATION:PT1H
X-Robots-Tag:noindex
X-PUBLISHED-TTL:PT1H
BEGIN:VTIMEZONE
TZID:America/Indiana/Indianapolis
BEGIN:DAYLIGHT
TZOFFSETFROM:-0500
TZOFFSETTO:-0400
TZNAME:EDT
DTSTART:20240310T070000
END:DAYLIGHT
BEGIN:STANDARD
TZOFFSETFROM:-0400
TZOFFSETTO:-0500
TZNAME:EST
DTSTART:20241103T060000
END:STANDARD
BEGIN:DAYLIGHT
TZOFFSETFROM:-0500
TZOFFSETTO:-0400
TZNAME:EDT
DTSTART:20250309T070000
END:DAYLIGHT
BEGIN:STANDARD
TZOFFSETFROM:-0400
TZOFFSETTO:-0500
TZNAME:EST
DTSTART:20251102T060000
END:STANDARD
BEGIN:DAYLIGHT
TZOFFSETFROM:-0500
TZOFFSETTO:-0400
TZNAME:EDT
DTSTART:20260308T070000
END:DAYLIGHT
BEGIN:STANDARD
TZOFFSETFROM:-0400
TZOFFSETTO:-0500
TZNAME:EST
DTSTART:20261101T060000
END:STANDARD
END:VTIMEZONE
BEGIN:VEVENT
DTSTART;TZID=America/Indiana/Indianapolis:20250218T180000
DTEND;TZID=America/Indiana/Indianapolis:20250218T200000
DTSTAMP:20260424T111009
CREATED:20250129T201928Z
LAST-MODIFIED:20250129T201929Z
UID:10000152-1739901600-1739908800@www.bebigforkids.org
SUMMARY:From Good to Great: Master Skills That Lead to Transformational Mentoring
DESCRIPTION:May              23              \, 2026            \n            Match Activity: Big Day of Little Adventures          \n            \n\nJoin other Bigs in a session that will set the stage for you to the be the best mentor you can be! \n\n\n\n                            Reserve a Spot\n                      \n        \n      \n    \n  \n\n\n\n\n\nLearn more:\n\n\n\nJoin other BBBSCI Bigs to gain insight and learn strategies to continue strengthening cultural humility\, empathy\, and navigating difficult topics in your mentoring relationship. Bigs will have the opportunity to connect with other mentors\, participate in professional development activities\, and discuss best practices to support young people. Matt Vukusich\, Manager of Mentoring Relationships\, and Jackie Lai\, Director of Marketing\, Communications\, & JEDI Initiatives\, will co-facilitate this training. \n\n\n\nEach attendee will leave with resources for further learning\, as well as learned lessons and actionable steps to continue growing in your personal and professional journey as a mentor. \n\n\n\nThis event will be for Bigs only. \n\n\n\nDinner will be provided for attendees. \n\n\n\nFor further questions\, reach out to Jackie at jlai@bbbsci.org. \n\n\n\nThe JEDI mentor training series is sponsored by Bowen Engineering.
URL:https://www.bebigforkids.org/event/from-good-to-great-master-skills-that-lead-to-transformational-mentoring/
ATTACH;FMTTYPE=image/jpeg:https://www.bebigforkids.org/wp-content/uploads/2025/01/From-Good-to-Great.jpg
END:VEVENT
END:VCALENDAR