BEGIN:VCALENDAR
VERSION:2.0
PRODID:-//Big Brothers Big Sisters of Central Indiana - ECPv6.15.17//NONSGML v1.0//EN
CALSCALE:GREGORIAN
METHOD:PUBLISH
X-ORIGINAL-URL:https://www.bebigforkids.org
X-WR-CALDESC:Events for Big Brothers Big Sisters of Central Indiana
REFRESH-INTERVAL;VALUE=DURATION:PT1H
X-Robots-Tag:noindex
X-PUBLISHED-TTL:PT1H
BEGIN:VTIMEZONE
TZID:America/Indiana/Indianapolis
BEGIN:DAYLIGHT
TZOFFSETFROM:-0500
TZOFFSETTO:-0400
TZNAME:EDT
DTSTART:20240310T070000
END:DAYLIGHT
BEGIN:STANDARD
TZOFFSETFROM:-0400
TZOFFSETTO:-0500
TZNAME:EST
DTSTART:20241103T060000
END:STANDARD
BEGIN:DAYLIGHT
TZOFFSETFROM:-0500
TZOFFSETTO:-0400
TZNAME:EDT
DTSTART:20250309T070000
END:DAYLIGHT
BEGIN:STANDARD
TZOFFSETFROM:-0400
TZOFFSETTO:-0500
TZNAME:EST
DTSTART:20251102T060000
END:STANDARD
BEGIN:DAYLIGHT
TZOFFSETFROM:-0500
TZOFFSETTO:-0400
TZNAME:EDT
DTSTART:20260308T070000
END:DAYLIGHT
BEGIN:STANDARD
TZOFFSETFROM:-0400
TZOFFSETTO:-0500
TZNAME:EST
DTSTART:20261101T060000
END:STANDARD
END:VTIMEZONE
BEGIN:VEVENT
DTSTART;TZID=America/Indiana/Indianapolis:20250320T180000
DTEND;TZID=America/Indiana/Indianapolis:20250320T193000
DTSTAMP:20260422T095256
CREATED:20250303T144005Z
LAST-MODIFIED:20250303T144007Z
UID:10000162-1742493600-1742499000@www.bebigforkids.org
SUMMARY:Open to Public: Big Stories\, Sip Bier
DESCRIPTION:May              23              \, 2026            \n            Match Activity: Big Day of Little Adventures          \n            \n\nJoin us at Bier Brewery to learn more about Big Brothers Big Sisters and how your community is being impacted! \n\n\n\n                            Save a Seat\n                      \n        \n      \n    \n  \n\n\n\n\n\nLearn more:\n\n\n\nBig Brother Big Sisters of Central Indiana (BBBSCI) and Bier Brewery have partnered up to share more about BBBSCI and its role in your community! \n\n\n\nJoin us anytime between 6-7:30pm on Thursday November 21st to learn more about BBBSCI and the way it’s impacting kiddos in Noblesville specifically. \n\n\n\nThe first 20 people to register are eligible for a complementary drink and some appetizers on BBBSCI.
URL:https://www.bebigforkids.org/event/open-to-public-big-stories-sip-bier-2/
ATTACH;FMTTYPE=image/avif:https://www.bebigforkids.org/wp-content/uploads/2025/03/big-stories.avif
END:VEVENT
END:VCALENDAR