BEGIN:VCALENDAR
VERSION:2.0
PRODID:-//Big Brothers Big Sisters of Central Indiana - ECPv6.15.17//NONSGML v1.0//EN
CALSCALE:GREGORIAN
METHOD:PUBLISH
X-WR-CALNAME:Big Brothers Big Sisters of Central Indiana
X-ORIGINAL-URL:https://www.bebigforkids.org
X-WR-CALDESC:Events for Big Brothers Big Sisters of Central Indiana
REFRESH-INTERVAL;VALUE=DURATION:PT1H
X-Robots-Tag:noindex
X-PUBLISHED-TTL:PT1H
BEGIN:VTIMEZONE
TZID:America/Indiana/Indianapolis
BEGIN:DAYLIGHT
TZOFFSETFROM:-0500
TZOFFSETTO:-0400
TZNAME:EDT
DTSTART:20240310T070000
END:DAYLIGHT
BEGIN:STANDARD
TZOFFSETFROM:-0400
TZOFFSETTO:-0500
TZNAME:EST
DTSTART:20241103T060000
END:STANDARD
BEGIN:DAYLIGHT
TZOFFSETFROM:-0500
TZOFFSETTO:-0400
TZNAME:EDT
DTSTART:20250309T070000
END:DAYLIGHT
BEGIN:STANDARD
TZOFFSETFROM:-0400
TZOFFSETTO:-0500
TZNAME:EST
DTSTART:20251102T060000
END:STANDARD
BEGIN:DAYLIGHT
TZOFFSETFROM:-0500
TZOFFSETTO:-0400
TZNAME:EDT
DTSTART:20260308T070000
END:DAYLIGHT
BEGIN:STANDARD
TZOFFSETFROM:-0400
TZOFFSETTO:-0500
TZNAME:EST
DTSTART:20261101T060000
END:STANDARD
END:VTIMEZONE
BEGIN:VEVENT
DTSTART;TZID=America/Indiana/Indianapolis:20250517T090000
DTEND;TZID=America/Indiana/Indianapolis:20250517T120000
DTSTAMP:20260421T111250
CREATED:20250425T185603Z
LAST-MODIFIED:20250425T185605Z
UID:10000183-1747472400-1747483200@www.bebigforkids.org
SUMMARY:Match Activity: START Program with Honda
DESCRIPTION:October              03              \, 2026            \n            The Main Event          \n            \n\nJoin us for Hondas START program for hands on experience! \n\n\n\n                            Email Us to Learn More\n                      \n        \n      \n    \n  \n\n\n\n\n\nLearn more:\n\n\n\nBBBSCI invites Bigs and Littles to join us for a Honda tour and an opportunity to participate in the START program. The START Activity: Honda is hosting a young driver safety education program to help realize its goals of a collision-free and zero-fatality future for society. During this class\, students will practice different maneuvers that will help them start safe driving habits as well as do activity that shows the reality of distracted driving. \n\n\n\nAgenda: \n\n\n\n8:45 am- Arrival for START participants \n\n\n\n9:00 am-12 pm- START activity (must have at minimum a learners permit) (6 student max capacity \n\n\n\nMust bring physical waiver to this event. All three waivers must be printed and filled out for the day of the event.
URL:https://www.bebigforkids.org/event/match-activity-start-program-with-honda-2/
ATTACH;FMTTYPE=image/avif:https://www.bebigforkids.org/wp-content/uploads/2025/03/honda.avif
END:VEVENT
BEGIN:VEVENT
DTSTART;TZID=America/Indiana/Indianapolis:20250517T100000
DTEND;TZID=America/Indiana/Indianapolis:20250517T120000
DTSTAMP:20260421T111250
CREATED:20250401T153010Z
LAST-MODIFIED:20250401T153013Z
UID:10000179-1747476000-1747483200@www.bebigforkids.org
SUMMARY:Match Activity: The STEM Connection Nature Hike
DESCRIPTION:October              03              \, 2026            \n            The Main Event          \n            \n\nJoin us at Moore Road Farm for an evening of STEM projects and nature! \n\n\n\n                            Email Us to Learn More\n                      \n        \n      \n    \n  \n\n\n\n\n\nLearn more:\n\n\n\nPlease join Big Brothers Big Sisters of Central Indiana \n\n\n\nJoin us at Moore Road Farm as The STEM Connection hosts a wonderful afternoon of exploring and learning. There will be a STEM activity to begin with and then a nature hike on the property of Moore Road Farm. \n\n\n\nThe Thriving Indicator for this event is Love of Learning sponsored by Ascension St. Vincent. \n\n\n\nClick here to fill out The STEM Connection Waiver: The STEM Connection Waiver
URL:https://www.bebigforkids.org/event/match-activity-the-stem-connection-nature-hike/
ATTACH;FMTTYPE=image/avif:https://www.bebigforkids.org/wp-content/uploads/2025/04/STEM.avif
END:VEVENT
END:VCALENDAR