BEGIN:VCALENDAR
VERSION:2.0
PRODID:-//Big Brothers Big Sisters of Central Indiana - ECPv6.15.17//NONSGML v1.0//EN
CALSCALE:GREGORIAN
METHOD:PUBLISH
X-ORIGINAL-URL:https://www.bebigforkids.org
X-WR-CALDESC:Events for Big Brothers Big Sisters of Central Indiana
REFRESH-INTERVAL;VALUE=DURATION:PT1H
X-Robots-Tag:noindex
X-PUBLISHED-TTL:PT1H
BEGIN:VTIMEZONE
TZID:UTC
BEGIN:STANDARD
TZOFFSETFROM:+0000
TZOFFSETTO:+0000
TZNAME:UTC
DTSTART:20240101T000000
END:STANDARD
END:VTIMEZONE
BEGIN:VTIMEZONE
TZID:America/Indiana/Indianapolis
BEGIN:DAYLIGHT
TZOFFSETFROM:-0500
TZOFFSETTO:-0400
TZNAME:EDT
DTSTART:20240310T070000
END:DAYLIGHT
BEGIN:STANDARD
TZOFFSETFROM:-0400
TZOFFSETTO:-0500
TZNAME:EST
DTSTART:20241103T060000
END:STANDARD
BEGIN:DAYLIGHT
TZOFFSETFROM:-0500
TZOFFSETTO:-0400
TZNAME:EDT
DTSTART:20250309T070000
END:DAYLIGHT
BEGIN:STANDARD
TZOFFSETFROM:-0400
TZOFFSETTO:-0500
TZNAME:EST
DTSTART:20251102T060000
END:STANDARD
BEGIN:DAYLIGHT
TZOFFSETFROM:-0500
TZOFFSETTO:-0400
TZNAME:EDT
DTSTART:20260308T070000
END:DAYLIGHT
BEGIN:STANDARD
TZOFFSETFROM:-0400
TZOFFSETTO:-0500
TZNAME:EST
DTSTART:20261101T060000
END:STANDARD
END:VTIMEZONE
BEGIN:VEVENT
DTSTART;TZID=UTC:20251202T000000
DTEND;TZID=UTC:20251202T235959
DTSTAMP:20260424T094335
CREATED:20251022T184850Z
LAST-MODIFIED:20251105T160101Z
UID:10000253-1764633600-1764719999@www.bebigforkids.org
SUMMARY:Giving Tuesday
DESCRIPTION:May              23              \, 2026            \n            Match Activity: Big Day of Little Adventures          \n            Share your light this Giving Tuesday by making a donation or becoming a mentor! By getting involved with BBBSCI\, you are helping more youth in our community shine. \n\n                            Make a Donation\n                      \n        \n      \n    \n  \n\n\n\n\n\n  \n    \n      \n            \n      \n        \n          \n                          \n                Make a Donation              \n                                      When you donate to Big Brothers Big Sisters of Central Indiana\, you are providing local youth with mentorship support that is helping to unlock and ignite their potential. Thank you for your support! \n\n                        \n              Donate Today            \n          \n          \n                                            \n                        \n        \n      \n  \n\n\n\n  \n    \n      \n              \n            \n      \n        \n          \n                          \n                Become a Mentor              \n                                      With so many ways to mentor youth in our community\, being a Big and making a positive impact on the life a child is easier than ever! Sign-up to become a community-based or school-based mentor below. \n\n                        \n              Be a Big            \n          \n          \n                                            \n                        \n        \n      \n  \n\n\n\n  \n    \n            \n        \n          \n                          \n                Indy Shines When you Share Your Light              \n                                      See how our community shines we come together.
URL:https://www.bebigforkids.org/event/giving-tuesday-2025/
ATTACH;FMTTYPE=image/png:https://www.bebigforkids.org/wp-content/uploads/2025/10/Website-Banner-1.png
END:VEVENT
BEGIN:VEVENT
DTSTART;TZID=America/Indiana/Indianapolis:20251202T180000
DTEND;TZID=America/Indiana/Indianapolis:20251202T200000
DTSTAMP:20260424T094335
CREATED:20251110T143415Z
LAST-MODIFIED:20251110T143416Z
UID:10000265-1764698400-1764705600@www.bebigforkids.org
SUMMARY:Match Activity: Holiday Game Night
DESCRIPTION:May              23              \, 2026            \n            Match Activity: Big Day of Little Adventures          \n            \nJoin BBBSCI for a fun-filled night of games\, pizza\, and connection!\n\n\n\nBBBSCI invites Matches to join us for one our favorite traditions: Game Night! All ages are welcoming to come connect\, eat pizza\, and spend time with other Matches in our Hangout Room\, fully equipped with a ping-pong table\, pool-table\, foosball\, video games and more space to hang. \nThriving Indicator: Social Skills. \n\n\n\n                            Email Us to Learn More\n                      \n        \n      \n    \n  \n\n\n\n\n\nLearn more:\n\n\n\nJoin BBBSCI for a fun-filled night of games\, pizza\, and connection! \n\n\n\nBBBSCI invites Matches to join us for one our favorite traditions: Game Night! All ages are welcoming to come connect\, eat pizza\, and spend time with other Matches in our Hangout Room\, fully equipped with a ping-pong table\, pool-tablem foosball\, video games andmore space to hang \n\n\n\nThriving Indicator: Social Skills
URL:https://www.bebigforkids.org/event/match-activity-holiday-game-night/
ATTACH;FMTTYPE=image/jpeg:https://www.bebigforkids.org/wp-content/uploads/2024/12/welcome-night.jpg
END:VEVENT
END:VCALENDAR