BEGIN:VCALENDAR
VERSION:2.0
PRODID:-//Big Brothers Big Sisters of Central Indiana - ECPv6.15.17//NONSGML v1.0//EN
CALSCALE:GREGORIAN
METHOD:PUBLISH
X-WR-CALNAME:Big Brothers Big Sisters of Central Indiana
X-ORIGINAL-URL:https://www.bebigforkids.org
X-WR-CALDESC:Events for Big Brothers Big Sisters of Central Indiana
REFRESH-INTERVAL;VALUE=DURATION:PT1H
X-Robots-Tag:noindex
X-PUBLISHED-TTL:PT1H
BEGIN:VTIMEZONE
TZID:America/Indiana/Indianapolis
BEGIN:DAYLIGHT
TZOFFSETFROM:-0500
TZOFFSETTO:-0400
TZNAME:EDT
DTSTART:20250309T070000
END:DAYLIGHT
BEGIN:STANDARD
TZOFFSETFROM:-0400
TZOFFSETTO:-0500
TZNAME:EST
DTSTART:20251102T060000
END:STANDARD
BEGIN:DAYLIGHT
TZOFFSETFROM:-0500
TZOFFSETTO:-0400
TZNAME:EDT
DTSTART:20260308T070000
END:DAYLIGHT
BEGIN:STANDARD
TZOFFSETFROM:-0400
TZOFFSETTO:-0500
TZNAME:EST
DTSTART:20261101T060000
END:STANDARD
BEGIN:DAYLIGHT
TZOFFSETFROM:-0500
TZOFFSETTO:-0400
TZNAME:EDT
DTSTART:20270314T070000
END:DAYLIGHT
BEGIN:STANDARD
TZOFFSETFROM:-0400
TZOFFSETTO:-0500
TZNAME:EST
DTSTART:20271107T060000
END:STANDARD
END:VTIMEZONE
BEGIN:VEVENT
DTSTART;TZID=America/Indiana/Indianapolis:20260313T083000
DTEND;TZID=America/Indiana/Indianapolis:20260313T103000
DTSTAMP:20260424T093403
CREATED:20260421T160130Z
LAST-MODIFIED:20260421T160131Z
UID:10000374-1773390600-1773397800@www.bebigforkids.org
SUMMARY:Open to Public: Coffee\, Collab\, & Convo - The Power of Belonging
DESCRIPTION:May              23              \, 2026            \n            Match Activity: Big Day of Little Adventures          \n            \n\nCoffee\, Collab & Convo: The Power of Belonging is a dynamic morning gathering designed to bring professionals and community members together. \n\n\n\n                            RSVP\n                      \n        \n      \n    \n  \n\n\n\n\n\n  \n    \n      \n        \n          \n                          Learn More\n                                      Join us for a powerful morning of connection\, conversation\, and community at Coffee\, Collab & Convo\, hosted by Big Brothers Big Sisters of Central Indiana. \nThis month’s theme—Belonging—invites us to explore what it truly means to feel seen\, valued\, and connected in our workplaces\, communities\, and everyday lives. \nOver coffee and meaningful dialogue\, we’ll bring together professionals\, leaders\, and community members to engage in an honest conversation about: \n\nWhat creates a true sense of belonging\nWho is often left out—and why\nHow we can intentionally build spaces where everyone feels valued\nThe role mentorship plays in fostering connection and opportunity\n\nThe experience will include intentional networking and a dynamic panel discussion featuring diverse voices from across our community\, sharing real stories and practical insights. \nWhether you’re a leader\, connector\, mentor\, or someone seeking community\, this space is designed for you.
URL:https://www.bebigforkids.org/event/open-to-public-coffee-collab-convo-the-power-of-belonging/
ATTACH;FMTTYPE=image/png:https://www.bebigforkids.org/wp-content/uploads/2024/10/Coffee-Collab-Convo.png
END:VEVENT
END:VCALENDAR