BEGIN:VCALENDAR
VERSION:2.0
PRODID:-//Big Brothers Big Sisters of Central Indiana - ECPv6.15.17//NONSGML v1.0//EN
CALSCALE:GREGORIAN
METHOD:PUBLISH
X-WR-CALNAME:Big Brothers Big Sisters of Central Indiana
X-ORIGINAL-URL:https://www.bebigforkids.org
X-WR-CALDESC:Events for Big Brothers Big Sisters of Central Indiana
REFRESH-INTERVAL;VALUE=DURATION:PT1H
X-Robots-Tag:noindex
X-PUBLISHED-TTL:PT1H
BEGIN:VTIMEZONE
TZID:America/Indiana/Indianapolis
BEGIN:DAYLIGHT
TZOFFSETFROM:-0500
TZOFFSETTO:-0400
TZNAME:EDT
DTSTART:20250309T070000
END:DAYLIGHT
BEGIN:STANDARD
TZOFFSETFROM:-0400
TZOFFSETTO:-0500
TZNAME:EST
DTSTART:20251102T060000
END:STANDARD
BEGIN:DAYLIGHT
TZOFFSETFROM:-0500
TZOFFSETTO:-0400
TZNAME:EDT
DTSTART:20260308T070000
END:DAYLIGHT
BEGIN:STANDARD
TZOFFSETFROM:-0400
TZOFFSETTO:-0500
TZNAME:EST
DTSTART:20261101T060000
END:STANDARD
BEGIN:DAYLIGHT
TZOFFSETFROM:-0500
TZOFFSETTO:-0400
TZNAME:EDT
DTSTART:20270314T070000
END:DAYLIGHT
BEGIN:STANDARD
TZOFFSETFROM:-0400
TZOFFSETTO:-0500
TZNAME:EST
DTSTART:20271107T060000
END:STANDARD
END:VTIMEZONE
BEGIN:VEVENT
DTSTART;TZID=America/Indiana/Indianapolis:20260418T100000
DTEND;TZID=America/Indiana/Indianapolis:20260418T140000
DTSTAMP:20260424T093545
CREATED:20260216T144501Z
LAST-MODIFIED:20260216T144502Z
UID:10000304-1776506400-1776520800@www.bebigforkids.org
SUMMARY:Match Activity: Indiana University Bloomington Visit
DESCRIPTION:May              23              \, 2026            \n            Match Activity: Big Day of Little Adventures          \n            Join Big Futures for a college visit to Indiana University Bloomington where students explore campus\, meet IU students\, and imagine life after high school. \n\n                            Email Us to Learn More\n                      \n        \n      \n    \n  \n\n\n\n\n\nLearn more:\n\n\n\nBig Futures is heading to Indiana University Bloomington for an exciting college visit designed for 9th through 12th grade students. \n\n\n\nThis experience gives youth the chance to step onto a real college campus\, engage with IU staff and students\, and learn what college life is really like.. \n\n\n\nImportant: Bigs will need to provide their own transportation to IU Bloomington. Once everyone meets up on campus\, each Big will receive a $50 gas card for attending. \n\n\n\nWhat to expect 🎓✨ \n\n\n\nLunch and conversation at the Forest Dining Hall \n\n\n\nA welcome at the Luddy School of Informatics \n\n\n\nAn interactive cybersecurity presentation with IU staff \n\n\n\nA guided campus walk through IU Bloomington \n\n\n\nA Q&A with current IU students \n\n\n\nA peek inside a real dorm room
URL:https://www.bebigforkids.org/event/match-activity-indiana-university-bloomington-visit/
ATTACH;FMTTYPE=image/jpeg:https://www.bebigforkids.org/wp-content/uploads/2026/02/BBBS-National-College-Tour-May-2024-X-T4-230-scaled.jpg
END:VEVENT
BEGIN:VEVENT
DTSTART;TZID=America/Indiana/Indianapolis:20260418T123000
DTEND;TZID=America/Indiana/Indianapolis:20260418T140000
DTSTAMP:20260424T093545
CREATED:20260216T144618Z
LAST-MODIFIED:20260216T144619Z
UID:10000305-1776515400-1776520800@www.bebigforkids.org
SUMMARY:Match Activity: Art Reach with Indianapolis Art Center
DESCRIPTION:May              23              \, 2026            \n            Match Activity: Big Day of Little Adventures          \n            Join BBBSCI Matches for our bi-weekly art series\, led by a professional artist! \n\n                            Email Us to Learn More\n                      \n        \n      \n    \n  \n\n\n\n\n\nLearn more:\n\n\n\nJoin BBBSCI Matches for a unique\, high-quality art lesson! \n\n\n\nJoin BBBSCI at the Indy Art Center for a unique\, high-quality art experience at Taggart Studio. Each session will feature a different style or technique\, so no two visits are the same! \n\n\n\nWhether you’re passionate about art or just curious to try something new\, this is the perfect opportunity to get creative\, learn from a professional artist\, and have fun with your Match. \n\n\n\nAll skill levels welcome — supplies provided. Come ready to explore\, create\, and connect!
URL:https://www.bebigforkids.org/event/match-activity-art-reach-with-indianapolis-art-center-15/
ATTACH;FMTTYPE=image/jpeg:https://www.bebigforkids.org/wp-content/uploads/2025/08/New-Indy-Art.jpg
END:VEVENT
END:VCALENDAR