BEGIN:VCALENDAR
VERSION:2.0
PRODID:-//Big Brothers Big Sisters of Central Indiana - ECPv6.15.17//NONSGML v1.0//EN
CALSCALE:GREGORIAN
METHOD:PUBLISH
X-ORIGINAL-URL:https://www.bebigforkids.org
X-WR-CALDESC:Events for Big Brothers Big Sisters of Central Indiana
REFRESH-INTERVAL;VALUE=DURATION:PT1H
X-Robots-Tag:noindex
X-PUBLISHED-TTL:PT1H
BEGIN:VTIMEZONE
TZID:America/Indiana/Indianapolis
BEGIN:DAYLIGHT
TZOFFSETFROM:-0500
TZOFFSETTO:-0400
TZNAME:EDT
DTSTART:20250309T070000
END:DAYLIGHT
BEGIN:STANDARD
TZOFFSETFROM:-0400
TZOFFSETTO:-0500
TZNAME:EST
DTSTART:20251102T060000
END:STANDARD
BEGIN:DAYLIGHT
TZOFFSETFROM:-0500
TZOFFSETTO:-0400
TZNAME:EDT
DTSTART:20260308T070000
END:DAYLIGHT
BEGIN:STANDARD
TZOFFSETFROM:-0400
TZOFFSETTO:-0500
TZNAME:EST
DTSTART:20261101T060000
END:STANDARD
BEGIN:DAYLIGHT
TZOFFSETFROM:-0500
TZOFFSETTO:-0400
TZNAME:EDT
DTSTART:20270314T070000
END:DAYLIGHT
BEGIN:STANDARD
TZOFFSETFROM:-0400
TZOFFSETTO:-0500
TZNAME:EST
DTSTART:20271107T060000
END:STANDARD
END:VTIMEZONE
BEGIN:VEVENT
DTSTART;TZID=America/Indiana/Indianapolis:20260512T180000
DTEND;TZID=America/Indiana/Indianapolis:20260512T200000
DTSTAMP:20260424T140447
CREATED:20260421T153923Z
LAST-MODIFIED:20260421T153924Z
UID:10000372-1778608800-1778616000@www.bebigforkids.org
SUMMARY:Match Activity: Johnson County Game Night
DESCRIPTION:May              23              \, 2026            \n            Match Activity: Big Day of Little Adventures          \n            Join us for Johnson County Game Night. Food\, fun\, and games with your Match. Space is limited\, so sign up fast! \n\n                            Email Us to Learn More\n                      \n        \n      \n    \n  \n\n\n\n\n\nLearn more:\n\n\n\nIt’s game time\, Matches! 🎉 Join Matt V for an exciting Johnson County Game Night packed with fun\, laughter\, and a little friendly competition. Come out on Tuesday\, May 12 from 6 PM to 8 PM for a night you will not want to miss! \n\n\n\nPlay classic board games and show off your skills while enjoying great company and upbeat energy 🎲🏀 We will have plenty of food\, snacks\, and drinks to keep you fueled for all the fun 🍕🥤 Whether you are in it to win it or just there for the vibes\, this night is all about connection\, laughter\, and making memories with your Match! ✨
URL:https://www.bebigforkids.org/event/match-activity-johnson-county-game-night/
ATTACH;FMTTYPE=image/webp:https://www.bebigforkids.org/wp-content/uploads/2026/04/JoCo-Game-Night.webp
END:VEVENT
END:VCALENDAR