BEGIN:VCALENDAR
VERSION:2.0
PRODID:-//Big Brothers Big Sisters of Central Indiana - ECPv6.15.17//NONSGML v1.0//EN
CALSCALE:GREGORIAN
METHOD:PUBLISH
X-WR-CALNAME:Big Brothers Big Sisters of Central Indiana
X-ORIGINAL-URL:https://www.bebigforkids.org
X-WR-CALDESC:Events for Big Brothers Big Sisters of Central Indiana
REFRESH-INTERVAL;VALUE=DURATION:PT1H
X-Robots-Tag:noindex
X-PUBLISHED-TTL:PT1H
BEGIN:VTIMEZONE
TZID:America/Indiana/Indianapolis
BEGIN:DAYLIGHT
TZOFFSETFROM:-0500
TZOFFSETTO:-0400
TZNAME:EDT
DTSTART:20250309T070000
END:DAYLIGHT
BEGIN:STANDARD
TZOFFSETFROM:-0400
TZOFFSETTO:-0500
TZNAME:EST
DTSTART:20251102T060000
END:STANDARD
BEGIN:DAYLIGHT
TZOFFSETFROM:-0500
TZOFFSETTO:-0400
TZNAME:EDT
DTSTART:20260308T070000
END:DAYLIGHT
BEGIN:STANDARD
TZOFFSETFROM:-0400
TZOFFSETTO:-0500
TZNAME:EST
DTSTART:20261101T060000
END:STANDARD
BEGIN:DAYLIGHT
TZOFFSETFROM:-0500
TZOFFSETTO:-0400
TZNAME:EDT
DTSTART:20270314T070000
END:DAYLIGHT
BEGIN:STANDARD
TZOFFSETFROM:-0400
TZOFFSETTO:-0500
TZNAME:EST
DTSTART:20271107T060000
END:STANDARD
END:VTIMEZONE
BEGIN:VEVENT
DTSTART;TZID=America/Indiana/Indianapolis:20260518T180000
DTEND;TZID=America/Indiana/Indianapolis:20260518T190000
DTSTAMP:20260422T112608
CREATED:20260421T160520Z
LAST-MODIFIED:20260421T160521Z
UID:10000376-1779127200-1779130800@www.bebigforkids.org
SUMMARY:Match Activity: Behind the Scrubs
DESCRIPTION:May              23              \, 2026            \n            Match Activity: Big Day of Little Adventures          \n            You’re invited to Action Health Center for a behind-the-scenes look at medical careers and a public health clinic! \n\n                            Email Us to Learn More\n                      \n        \n      \n    \n  \n\n\n\n\n\nLearn more:\n\n\n\nEver wondered what really happens inside a public health clinic? This is your chance to go behind the scenes and explore careers that make a real impact in the community! This event is open to Littles in Grade 6 and up. \n\n\n\nJoin us for an exclusive tour of Action Health Center\, a public health clinic within the Marion County Health Department network. You may recognize them from our November event\, “The Talk: Safe + Healthy Relationships\,” and now they’re welcoming us into their space for an inside look at life in a health clinic. \n\n\n\nLed by Dr. Milicent Moye\, you’ll tour the clinic\, meet medical professionals\, and learn about the wide range of careers that exist in public and community health. \n\n\n\nWhat to expect\n\n\n\n• Guided clinic tour with Dr. Milicent Moye \n\n\n\n• Meet professionals in different medical and health roles \n\n\n\n• Interactive demos including blood pressure checks\, reflex tests\, audiometry (hearing tests)\, and how to properly wrap a sprained ankle \n\n\n\n• A conversation about the difference between public and private health clinics \n\n\n\n• Light refreshments provided \n\n\n\n• Every Match leaves with a swag bag \n\n\n\nThis is a hands on\, engaging experience designed to spark curiosity\, build awareness\, and help Littles explore future careers in health\, medicine\, and public service. \n\n\n\nSpots are limited\, so don’t miss this chance to step behind the scrubs and discover what caring careers look like in action! \n\n\n\nReminder: This event is open to Littles in Grade 6 and up.
URL:https://www.bebigforkids.org/event/match-activity-behind-the-scrubs-2/
ATTACH;FMTTYPE=image/jpeg:https://www.bebigforkids.org/wp-content/uploads/2026/02/behind-the-scrubs.jpg
END:VEVENT
END:VCALENDAR