BEGIN:VCALENDAR
VERSION:2.0
PRODID:-//Big Brothers Big Sisters of Central Indiana - ECPv6.15.17//NONSGML v1.0//EN
CALSCALE:GREGORIAN
METHOD:PUBLISH
X-ORIGINAL-URL:https://www.bebigforkids.org
X-WR-CALDESC:Events for Big Brothers Big Sisters of Central Indiana
REFRESH-INTERVAL;VALUE=DURATION:PT1H
X-Robots-Tag:noindex
X-PUBLISHED-TTL:PT1H
BEGIN:VTIMEZONE
TZID:America/Indiana/Indianapolis
BEGIN:DAYLIGHT
TZOFFSETFROM:-0500
TZOFFSETTO:-0400
TZNAME:EDT
DTSTART:20230312T070000
END:DAYLIGHT
BEGIN:STANDARD
TZOFFSETFROM:-0400
TZOFFSETTO:-0500
TZNAME:EST
DTSTART:20231105T060000
END:STANDARD
BEGIN:DAYLIGHT
TZOFFSETFROM:-0500
TZOFFSETTO:-0400
TZNAME:EDT
DTSTART:20240310T070000
END:DAYLIGHT
BEGIN:STANDARD
TZOFFSETFROM:-0400
TZOFFSETTO:-0500
TZNAME:EST
DTSTART:20241103T060000
END:STANDARD
BEGIN:DAYLIGHT
TZOFFSETFROM:-0500
TZOFFSETTO:-0400
TZNAME:EDT
DTSTART:20250309T070000
END:DAYLIGHT
BEGIN:STANDARD
TZOFFSETFROM:-0400
TZOFFSETTO:-0500
TZNAME:EST
DTSTART:20251102T060000
END:STANDARD
END:VTIMEZONE
BEGIN:VEVENT
DTSTART;TZID=America/Indiana/Indianapolis:20240806T180000
DTEND;TZID=America/Indiana/Indianapolis:20240806T200000
DTSTAMP:20260420T112126
CREATED:20240724T124445Z
LAST-MODIFIED:20240724T124542Z
UID:10000074-1722967200-1722974400@www.bebigforkids.org
SUMMARY:Match Activity: August Family Game Night & Back to School Night
DESCRIPTION:October              03              \, 2026            \n            The Main Event          \n            Join us for our signature event Game Night but feel free to bring the whole family! \n\n                            Email Us to Learn More\n                      \n        \n      \n    \n  \n\n\n\n\n\nABOUT THIS EVENT:\n\n\n\nBBBSCI invites Bigs\, Littles\, and their families to join us for one of our favorite traditions\, GAME NIGHT\, however\, this rendition will be a little different! Matches and their families will gather at our office for a school supply drive\, dinner\, games\, and more! \n\n\n\nWe want to kick off the school year in a fun way\, so come ready to play\, learn\, and much more! \n\n\n\nOrganizations & Resources: \n\n\n\n\nJameson Camp \n\n\n\nCamp Happy Hollow \n\n\n\nStarfish \n\n\n\nINvestEd \n\n\n\nYMCA \n\n\n\nJCC \n\n\n\n\nDon’t miss this opportunity to stock up on school supplies\, play games\, and gain knowledge on different community resources! \n\n\n\nDinner\, snacks\, and drinks will be provided. \n\n\n\nThriving Indicator: Social Skills
URL:https://www.bebigforkids.org/event/match-activity-august-family-game-night-back-to-school-night/
ATTACH;FMTTYPE=image/jpeg:https://www.bebigforkids.org/wp-content/uploads/2024/07/augustgamenight.jpg
END:VEVENT
BEGIN:VEVENT
DTSTART;TZID=America/Indiana/Indianapolis:20240810T123000
DTEND;TZID=America/Indiana/Indianapolis:20240810T140000
DTSTAMP:20260420T112126
CREATED:20240724T125820Z
LAST-MODIFIED:20240724T125821Z
UID:10000076-1723293000-1723298400@www.bebigforkids.org
SUMMARY:Match Activity: Art Reach with Indiana Art Center
DESCRIPTION:October              03              \, 2026            \n            The Main Event          \n            \n\nJoin the Indiana Art Center for a fun interactive art session! \n\n\n\n\n\n\n\n\n\n\n\n\n\n\n\n                            Email Us to Learn More\n                      \n        \n      \n    \n  \n\n\n\n\n\nABOUT THIS EVENT:\n\n\n\nJoin the Indianapolis Art Center at Taggart Studio for unique high-quality art lesson. Each session will be different\, and you won’t know until you attend! This will be a fun way for matches to express themselves through art and have fun while doing it. If you love art or want to learn a new art method this will be a fun event to attend.
URL:https://www.bebigforkids.org/event/match-activity-art-reach-with-indiana-art-center-3/
ATTACH;FMTTYPE=image/jpeg:https://www.bebigforkids.org/wp-content/uploads/2024/07/ArtReach.jpg
END:VEVENT
BEGIN:VEVENT
DTSTART;TZID=America/Indiana/Indianapolis:20240815T100000
DTEND;TZID=America/Indiana/Indianapolis:20240815T113000
DTSTAMP:20260420T112126
CREATED:20240724T130252Z
LAST-MODIFIED:20240724T130254Z
UID:10000077-1723716000-1723721400@www.bebigforkids.org
SUMMARY:Big Sisters of Central Indiana 50th Anniversary Brunch
DESCRIPTION:October              03              \, 2026            \n            The Main Event          \n            \n\nJoin us for the Big Sisters 50th Anniversary Brunch\, a gathering of Alumni Big Sisters to celebrate the evolution of BBBSCI. \n\n\n\n\n\n\n\n\n\n\n\n\n\n\n\n\n\n\n\n                            Email Us to Learn More\n                      \n        \n      \n    \n  \n\n\n\n\n\nABOUT THIS EVENT:\n\n\n\nIn honor of 50 years since the formation of Big Sisters of Central Indiana\, please join us for brunch to celebrate the evolution of the Big Brothers Big Sisters program. Enjoy a delicious brunch\, connect with fellow Big Sister Alumnae\, and hear from current BBBSCI Staff as we celebrate the past 50 years of empowering and supporting young women in our community. Don’t miss this opportunity to be a part of this legacy with us! \n\n\n\nFor questions\, please contact Joe Trentadue\, Philanthropy and Giving Societies Manager\, at jtrentadue@bbbsci.org.
URL:https://www.bebigforkids.org/event/big-sisters-of-central-indiana-50th-anniversary-brunch/
ATTACH;FMTTYPE=image/jpeg:https://www.bebigforkids.org/wp-content/uploads/2024/07/brunch.jpg
END:VEVENT
BEGIN:VEVENT
DTSTART;TZID=America/Indiana/Indianapolis:20240816T190000
DTEND;TZID=America/Indiana/Indianapolis:20240816T220000
DTSTAMP:20260420T112126
CREATED:20240724T130625Z
LAST-MODIFIED:20240724T130626Z
UID:10000078-1723834800-1723845600@www.bebigforkids.org
SUMMARY:Match Activity: Indianapolis Indians Spark for Change Game
DESCRIPTION:October              03              \, 2026            \n            The Main Event          \n            \n\nJoin the Indianapolis Indians during their Spark for Change Game! \n\n\n\n\n\n\n\n\n\n\n\n\n\n\n\n                            Email Us to Learn More\n                      \n        \n      \n    \n  \n\n\n\n\n\nABOUT THIS EVENT:\n\n\n\nJoin Big Brothers Big Sisters of Central Indiana at the Indianapolis Indians Game for an on-field experience & fireworks! \n\n\n\nThe Indianapolis Indians have invited BBBSCI to their Spark for Change Game. For this event matches must be able to stay for the full game. After the game Littles will go on the field and help light the fireworks. Bigs can join the Littles after the fireworks for some photos on the field.
URL:https://www.bebigforkids.org/event/match-activity-indianapolis-indians-spark-for-change-game/
ATTACH;FMTTYPE=image/jpeg:https://www.bebigforkids.org/wp-content/uploads/2024/07/field.jpg
END:VEVENT
BEGIN:VEVENT
DTSTART;TZID=America/Indiana/Indianapolis:20240817T123000
DTEND;TZID=America/Indiana/Indianapolis:20240817T140000
DTSTAMP:20260420T112126
CREATED:20240724T130812Z
LAST-MODIFIED:20240724T130812Z
UID:10000079-1723897800-1723903200@www.bebigforkids.org
SUMMARY:Match Activity: Art Reach with Indiana Art Center
DESCRIPTION:October              03              \, 2026            \n            The Main Event          \n            \n\nJoin the Indiana Art Center for a fun interactive art session! \n\n\n\n                            Email Us to Learn More\n                      \n        \n      \n    \n  \n\n\n\n\n\nABOUT THIS EVENT:\n\n\n\nJoin the Indianapolis Art Center at Taggart Studio for unique high-quality art lesson. Each session will be different\, and you won’t know until you attend! This will be a fun way for matches to express themselves through art and have fun while doing it. If you love art or want to learn a new art method this will be a fun event to attend.
URL:https://www.bebigforkids.org/event/match-activity-art-reach-with-indiana-art-center-4/
ATTACH;FMTTYPE=image/jpeg:https://www.bebigforkids.org/wp-content/uploads/2024/07/ArtReach.jpg
END:VEVENT
BEGIN:VEVENT
DTSTART;TZID=America/Indiana/Indianapolis:20240830T083000
DTEND;TZID=America/Indiana/Indianapolis:20240830T100000
DTSTAMP:20260420T112126
CREATED:20240724T131047Z
LAST-MODIFIED:20240823T154800Z
UID:10000080-1725006600-1725012000@www.bebigforkids.org
SUMMARY:Coffee\, Collab\, & Convo
DESCRIPTION:October              03              \, 2026            \n            The Main Event          \n            \n\nLet’s get together for some coffee\, collaboration\, and conversations at COFFEE\, COLLAB & CONVO – a perfect blend of networking and good vibe. \n\n\n\n                            Reserve a Spot\n                      \n        \n      \n    \n  \n\n\n\n\n\nABOUT THIS EVENT:\n\n\n\nWelcome to COFFEE\, COLLAB & CONVO! Join us for a fun and engaging event at the Community Church of Greenwood. Get ready for a morning filled with delicious coffee\, exciting collaborations\, and meaningful conversations. This in-person gathering is the perfect opportunity to connect with like-minded individuals and be inspired to make a difference in Johnson County. Don’t miss out on this unique experience! Bring a friend and we look forward to seeing you there!
URL:https://www.bebigforkids.org/event/coffee-collab-convo/
ATTACH;FMTTYPE=image/jpeg:https://www.bebigforkids.org/wp-content/uploads/2024/07/CCC.jpg
END:VEVENT
BEGIN:VEVENT
DTSTART;TZID=America/Indiana/Indianapolis:20240831T183000
DTEND;TZID=America/Indiana/Indianapolis:20240831T200000
DTSTAMP:20260420T112126
CREATED:20240724T131820Z
LAST-MODIFIED:20240724T131821Z
UID:10000082-1725129000-1725134400@www.bebigforkids.org
SUMMARY:BBBSCI Night at the City League
DESCRIPTION:October              03              \, 2026            \n            The Main Event          \n            \n\nJoin us for a fun night at The City League to support Big Brothers Big Sisters of Central Indiana! \n\n\n\n                            Email Us to Learn More\n                      \n        \n      \n    \n  \n\n\n\n\n\nABOUT THIS EVENT:\n\n\n\nBBBSCI Night at The City League \n\n\n\nCome join us for a night of fun and games at The City League! Come cheer on the BBBSCI basketball team! The address is 727 N Oriental St\, so make sure to mark your calendars. Don’t miss out on this exciting opportunity to connect with others and have a great time. See you there!
URL:https://www.bebigforkids.org/event/bbbsci-night-at-the-city-league/
ATTACH;FMTTYPE=image/jpeg:https://www.bebigforkids.org/wp-content/uploads/2024/07/CL.jpg
END:VEVENT
END:VCALENDAR