BEGIN:VCALENDAR
VERSION:2.0
PRODID:-//Big Brothers Big Sisters of Central Indiana - ECPv6.15.17//NONSGML v1.0//EN
CALSCALE:GREGORIAN
METHOD:PUBLISH
X-WR-CALNAME:Big Brothers Big Sisters of Central Indiana
X-ORIGINAL-URL:https://www.bebigforkids.org
X-WR-CALDESC:Events for Big Brothers Big Sisters of Central Indiana
REFRESH-INTERVAL;VALUE=DURATION:PT1H
X-Robots-Tag:noindex
X-PUBLISHED-TTL:PT1H
BEGIN:VTIMEZONE
TZID:UTC
BEGIN:STANDARD
TZOFFSETFROM:+0000
TZOFFSETTO:+0000
TZNAME:UTC
DTSTART:20250101T000000
END:STANDARD
END:VTIMEZONE
BEGIN:VEVENT
DTSTART;TZID=UTC:20260626T183000
DTEND;TZID=UTC:20260626T210000
DTSTAMP:20260424T080732
CREATED:20260115T152910Z
LAST-MODIFIED:20260422T193140Z
UID:10000279-1782498600-1782507600@www.bebigforkids.org
SUMMARY:Big Night Out
DESCRIPTION:May              23              \, 2026            \n            Match Activity: Big Day of Little Adventures          \n            Our largest match event of the year with a focus on fun and family! \n\n                            Get Involved\n                      \n        \n      \n    \n  \n\n\n\n\n\n  \n    \n      \n            \n      \n        \n          \n                          \n                Our Biggest Night of the Year!              \n                                      Matches and families are invited to come together for a summer blowout serving up lots of fun and building important bonds through play. \n\n                        \n                          \n          \n          \n                                              \n                                \n                        \n        \n      \n  \n\n\n\n  \n    \n      \n        Become a Sponsor\n        Sponsor Big Night Out to unlock exclusive perks and be part of a meaningful\, fun-filled night! To secure a sponsorship\, please contact Michaela Hylton at mhylton@bbbsci.org. \n\n        \n                  \n            \n              Presenting Sponsor | $25\,000\n              \n                \n              \n            \n            \n              \n\nExclusive logo recognition as the presenting sponsor on all event materials (website\, social media\, event signage\, IBJ ad\, program\, t-shirts\, etc.)\n\n\nUp to 20 tickets to attend the event\n\n\nOpportunity to give remarks at the event\n\n\nOpportunity to provide a celebrity guest speaker at the event\n\n\nOpportunity to table with game or activity at the event\n\n\nInclusion in BBBSCI’s annual report and event impact report\n\n\n                          \n          \n                  \n            \n              Playmaker Sponsor | $15\,000\n              \n                \n              \n            \n            \n              \n\nPremier logo recognition on event materials (website\, social media\, event signage\, IBJ ad\, program\, t-shirts\, etc.)\n\n\nUp to 15 tickets to attend the event\n\n\nOpportunity to table with game or activity at the event\n\n\nRecognition as one of two giveaway sponsors\n\n\nInclusion in BBBSCI’s annual report and event impact report\n\n\n                          \n          \n                  \n            \n              Game Zone Sponsor | $10\,000\n              \n                \n              \n            \n            \n              \n\nLogo recognition on event materials (website\, social media\, event signage\, IBJ ad\, program\, t-shirts\, etc.)\n\n\nUp to 10 tickets to attend the event\n\n\nOpportunity to be one of four sport area sponsors with recognition at selected area\n\n\nInclusion in BBBSCI’s annual report and event impact report\n\n\n                          \n          \n                  \n            \n              Overtime Sponsor | $5\,000\n              \n                \n              \n            \n            \n              \n\nLogo recognition on event materials (website\, social media\, event signage\, IBJ ad\, program\, t-shirts\, etc.)\n\n\nInclusion in BBBSCI’s annual report and event impact report\n\n\n                          \n          \n                  \n            \n              Wild Card Sponsor | $1\,000\n              \n                \n              \n            \n            \n              \n\nName recognition on event materials (website\, social media\, event signage\, IBJ ad\, program\, t-shirts\, etc.)\n\n\nInclusion in BBBSCI’s annual report and event impact report\n\n\n                          \n          \n              \n      \n    \n  \n\n  \n\n\n\n  \n    \n              \n            \n        \n          2026 Sponsors\n          \n        \n      \n    \n  \n\n\n\n  \n    \n      \n        \n          Presenting Sponsor\n          \n                      \n        \n                  \n                          \n                                  \n                              \n                      \n              \n    \n  \n\n\n\n  \n    \n      \n        \n          Overtime Sponsor\n          \n                      \n        \n                  \n                          \n                                  \n                              \n                      \n              \n    \n  \n\n\n\n  \n    \n      \n        \n          Wildcard Sponsor\n          \n                      \n        \n                  \n                          \n                                  \n                              \n                      \n              \n    \n  \n\n\n\n  \n    \n            \n        \n          Photos from 2025
URL:https://www.bebigforkids.org/event/big-night-out/
ATTACH;FMTTYPE=image/png:https://www.bebigforkids.org/wp-content/uploads/2026/01/Website-Banner-NMM-8-scaled.png
END:VEVENT
END:VCALENDAR