BEGIN:VCALENDAR
VERSION:2.0
PRODID:-//Big Brothers Big Sisters of Central Indiana - ECPv6.15.17//NONSGML v1.0//EN
CALSCALE:GREGORIAN
METHOD:PUBLISH
X-ORIGINAL-URL:https://www.bebigforkids.org
X-WR-CALDESC:Events for Big Brothers Big Sisters of Central Indiana
REFRESH-INTERVAL;VALUE=DURATION:PT1H
X-Robots-Tag:noindex
X-PUBLISHED-TTL:PT1H
BEGIN:VTIMEZONE
TZID:UTC
BEGIN:STANDARD
TZOFFSETFROM:+0000
TZOFFSETTO:+0000
TZNAME:UTC
DTSTART:20250101T000000
END:STANDARD
END:VTIMEZONE
BEGIN:VTIMEZONE
TZID:America/Indiana/Indianapolis
BEGIN:DAYLIGHT
TZOFFSETFROM:-0500
TZOFFSETTO:-0400
TZNAME:EDT
DTSTART:20250309T070000
END:DAYLIGHT
BEGIN:STANDARD
TZOFFSETFROM:-0400
TZOFFSETTO:-0500
TZNAME:EST
DTSTART:20251102T060000
END:STANDARD
BEGIN:DAYLIGHT
TZOFFSETFROM:-0500
TZOFFSETTO:-0400
TZNAME:EDT
DTSTART:20260308T070000
END:DAYLIGHT
BEGIN:STANDARD
TZOFFSETFROM:-0400
TZOFFSETTO:-0500
TZNAME:EST
DTSTART:20261101T060000
END:STANDARD
BEGIN:DAYLIGHT
TZOFFSETFROM:-0500
TZOFFSETTO:-0400
TZNAME:EDT
DTSTART:20270314T070000
END:DAYLIGHT
BEGIN:STANDARD
TZOFFSETFROM:-0400
TZOFFSETTO:-0500
TZNAME:EST
DTSTART:20271107T060000
END:STANDARD
END:VTIMEZONE
BEGIN:VEVENT
DTSTART;TZID=UTC:20260422T120000
DTEND;TZID=UTC:20260422T121500
DTSTAMP:20260420T080900
CREATED:20260217T192037Z
LAST-MODIFIED:20260217T195438Z
UID:10000330-1776859200-1776860100@www.bebigforkids.org
SUMMARY:Volunteer Info Session (Afternoon)
DESCRIPTION:October              03              \, 2026            \n            The Main Event          \n            Hop on to this quick 15-minute call to learn more about how you can volunteer and become a Big with Big Brothers Big Sisters of Central Indiana! \n\n                            Join the Call\n                      \n        \n      \n    \n  \n\n\n\n\n\n  \n    \n              \n            \n        \n\n                      \n              \n              \n              \n            \n                              \n          \n                          \n                                                  \n                                          \n                        About this Event:                      \n                    \n                                          EVERY WEDNESDAY FROM 12-12:15 PM\nEver thought you could give back to your community? Want to help mentor a young person towards future success? \nJoin this call with a BBBS team member who will paint a picture about what being a Big\, or mentor\, as a part of BBBS of Central Indiana is all about. They’ll answer any questions you have and make sure you know that you have what it takes to Be Big! \n\n                                        \n                    \n                  \n                                \n                  \n                  \n                  \n                \n              \n                        \n              Join the CallBack to Events
URL:https://www.bebigforkids.org/event/2026-vol-info-midday/2026-04-22/
ATTACH;FMTTYPE=image/jpeg:https://www.bebigforkids.org/wp-content/uploads/2025/02/Big-Brother-Dave-and-Little-Brother-Sean-WEDD3439-scaled.jpg
END:VEVENT
BEGIN:VEVENT
DTSTART;TZID=UTC:20260422T180000
DTEND;TZID=UTC:20260422T181500
DTSTAMP:20260420T080900
CREATED:20260217T195018Z
LAST-MODIFIED:20260217T195501Z
UID:10000358-1776880800-1776881700@www.bebigforkids.org
SUMMARY:Volunteer Info Session (Evening)
DESCRIPTION:October              03              \, 2026            \n            The Main Event          \n            Hop on to this quick 15-minute call to learn more about how you can volunteer and become a Big with Big Brothers Big Sisters of Central Indiana! \n\n                            Join the Call\n                      \n        \n      \n    \n  \n\n\n\n\n\n  \n    \n      \n            \n      \n        \n          \n                          \n                About this Event:              \n                                      EVERY WEDNESDAY FROM 6-6:15 PM\nEver thought you could give back to your community? Want to help mentor a young person towards future success? \nJoin this call with a BBBS team member who will paint a picture about what being a Big\, or mentor\, as a part of BBBS of Central Indiana is all about. They’ll answer any questions you have and make sure you know that you have what it takes to Be Big! \n\n                        \n              Join the CallBack to Events
URL:https://www.bebigforkids.org/event/2026-vol-info-evening/2026-04-22/
ATTACH;FMTTYPE=image/jpeg:https://www.bebigforkids.org/wp-content/uploads/2025/02/Big-Brother-Dave-and-Little-Brother-Sean-WEDD3439-scaled.jpg
END:VEVENT
BEGIN:VEVENT
DTSTART;TZID=UTC:20260426T143000
DTEND;TZID=UTC:20260426T163000
DTSTAMP:20260420T080900
CREATED:20250326T200738Z
LAST-MODIFIED:20260416T201041Z
UID:10000166-1777213800-1777221000@www.bebigforkids.org
SUMMARY:Big Futures Celebration
DESCRIPTION:congratulations TO our 2026 graduating matches!\n\n        \n      \n    \n  \n\n\n\n\n\n\n\n  \n    \n              \n            \n        \n          2026 Scholarship Recipients\n          Each year through the generosity of several donors and sponsors\, BBBSCI is grateful to award scholarships to a select number of Littles who are pursuing secondary education. These scholarships recognize the achievements and aspirations of the Little\, alongside the deep mentoring friendship built by Littles and Bigs. \n\n        \n      \n    \n  \n\n\n\n  \n    \n              \n          \n                          \n                \n                    Little Sister Jaime\n                    Recipient of The Herman Family Scholarship\n                    \n                                    \n                \n                \n            \n                          \n                \n                    Little Daze\n                    Recipient of The Proffitt/Foster Scholarship in Honor of Ellise Jensen\n                    \n                                    \n                \n                \n            \n                          \n                \n                    Little Sister Calajah\n                    Recipient of The Herman Family Scholarship Made Possible by the Thomasson Family\n                    \n                                    \n                \n                \n            \n                          \n                \n                    Little Brother Nathan\n                    Recipient of The Bob Clifford Memorial Scholarship Fund\n                    \n                                    \n                \n                \n            \n                          \n                \n                    Little Brother Taj\n                    Recipient of The Gary Ford Memorial Scholarship Fund\n                    \n                                    \n                \n                \n            \n                          \n                \n                    Little Sister Madison\n                    Recipient of The Mr. & Mrs. Maurice Frank Scholarship Fund & Scholarship Courtesy of Ayres Foundation\n                    \n                                    \n                \n                \n            \n                          \n                \n                    Little Sister Justice\n                    Recipient of Brown Family Scholarship & BBBSCI Scholarship\n                    \n                                    \n                \n                \n            \n                          \n                \n                    Little Sister Zamora\n                    Recipient of BBBSCI Scholarship\n                    \n                                    \n                \n                \n            \n                          \n                \n                    Little Sister Sarai\n                    Recipient of BBBSCI Scholarship\n                    \n                                    \n                \n                \n            \n                          \n                \n                    Little Brother Ryan\n                    Recipient of BBBSCI Scholarship\n                    \n                                    \n                \n                \n            \n                          \n                \n                    Little Sister Mari\n                    Recipient of BBBSCI Scholarship\n                    \n                                    \n                \n                \n            \n                          \n                \n                    Little Brother Joey\n                    Recipient of BBBSCI Scholarship\n                    \n                                    \n                \n                \n            \n                          \n                \n                    Little Brother Jacarr\n                    Recipient of BBBSCI Scholarship\n                    \n                                    \n                \n                \n            \n                          \n                \n                    Little Brother Aarron\n                    Recipient of BBBSCI Scholarship\n                    \n                                    \n                \n                \n            \n                          \n                \n                    Little Sister Shania\n                    Recipient of BBBSCI Scholarship\n                    \n                                    \n                \n                \n            \n                          \n                \n                    Little Brother Amari\n                    Recipient of BBBSCI Scholarship\n                    \n                                    \n                \n                \n            \n                      \n        \n          \n  \n\n\n\n  \n    \n            \n        \n          \n                          \n                Big Futures: Career & College Readiness Program              \n                                      Big Futures serves over 400 BBBSCI’s 1:1 matches each year. This program houses mentoring support for all high school-aged and now 18+ matches and includes a series of events focused on the school-to-workforce pipeline. These events encourage Littles to develop hard and soft skills including financial literacy\, assist in exploration of different careers\, break down barriers and provide resources\, and help make important professional connections. As a way to maximize impact\, Big Futures events also reflect many of the Scholars Success Program requirements so that Littles can maintain their 21st Century Scholarship status and access free college.   \nCheck out a few of the many Big Futures events that matches participate in to help Littles build their brightest futures! \n\n                      \n          \n                            \n                                  \n                      \n        \n      \n  \n\n\n\n  \n    \n      \n        \n          \n                          Interested in Sponsoring Big Futures?\n                                      The Big Futures program prepares Littles for their biggest possible futures. Join us in supporting the Big Futures program by sponsoring today! \n\n                      \n          \n            Become a Sponsor          \n        \n      \n    \n  \n\n\n\n  \n    \n              \n            \n        \n          2025-2026 Big Futures Sponsors\n          \n        \n      \n    \n  \n\n\n\n  \n    \n      \n        \n          Powering Big Futures Presenting Sponsor\n          \n                      \n        \n                  \n                          \n                                  \n                              \n                      \n              \n    \n  \n\n\n\n  \n    \n      \n        \n          Big Potential Sponsor\n          \n                      \n        \n                  \n                          \n                                  \n                              \n                      \n              \n    \n  \n\n\n\n  \n    \n      \n        \n          Power & Promise Sponsors\n          \n                      \n        \n                  \n                          \n                                  \n                              \n                          \n                                  \n                              \n                          \n                                  \n                              \n                          \n                                  \n                              \n                      \n              \n    \n  \n\n\n\n  \n    \n      \n        \n          Ignite Potential Sponsors\n          \n                      \n        \n                  \n                          \n                                  \n                              \n                          \n                                  \n                              \n                          \n                                  \n                              \n                          \n                                  \n                              \n                          \n                                  \n                              \n                          \n                                  \n                              \n                          \n                                  \n                              \n                          \n                                  \n                              \n                          \n                                  \n                              \n                      \n              \n    \n  \n\n\n\n  \n    \n      \n        \n          Graduating Match Sponsors\n          \n            Ayres Foundation \nDauby O’Connor & Zaleski\, LLC \nHerff Jones \nKPMG
URL:https://www.bebigforkids.org/event/bigfuturescelebration/
END:VEVENT
BEGIN:VEVENT
DTSTART;TZID=UTC:20260429T120000
DTEND;TZID=UTC:20260429T121500
DTSTAMP:20260420T080901
CREATED:20260217T192037Z
LAST-MODIFIED:20260217T195438Z
UID:10000331-1777464000-1777464900@www.bebigforkids.org
SUMMARY:Volunteer Info Session (Afternoon)
DESCRIPTION:October              03              \, 2026            \n            The Main Event          \n            Hop on to this quick 15-minute call to learn more about how you can volunteer and become a Big with Big Brothers Big Sisters of Central Indiana! \n\n                            Join the Call\n                      \n        \n      \n    \n  \n\n\n\n\n\n  \n    \n              \n            \n        \n\n                      \n              \n              \n              \n            \n                              \n          \n                          \n                                                  \n                                          \n                        About this Event:                      \n                    \n                                          EVERY WEDNESDAY FROM 12-12:15 PM\nEver thought you could give back to your community? Want to help mentor a young person towards future success? \nJoin this call with a BBBS team member who will paint a picture about what being a Big\, or mentor\, as a part of BBBS of Central Indiana is all about. They’ll answer any questions you have and make sure you know that you have what it takes to Be Big! \n\n                                        \n                    \n                  \n                                \n                  \n                  \n                  \n                \n              \n                        \n              Join the CallBack to Events
URL:https://www.bebigforkids.org/event/2026-vol-info-midday/2026-04-29/
ATTACH;FMTTYPE=image/jpeg:https://www.bebigforkids.org/wp-content/uploads/2025/02/Big-Brother-Dave-and-Little-Brother-Sean-WEDD3439-scaled.jpg
END:VEVENT
BEGIN:VEVENT
DTSTART;TZID=UTC:20260429T180000
DTEND;TZID=UTC:20260429T181500
DTSTAMP:20260420T080901
CREATED:20260217T195018Z
LAST-MODIFIED:20260217T195501Z
UID:10000359-1777485600-1777486500@www.bebigforkids.org
SUMMARY:Volunteer Info Session (Evening)
DESCRIPTION:October              03              \, 2026            \n            The Main Event          \n            Hop on to this quick 15-minute call to learn more about how you can volunteer and become a Big with Big Brothers Big Sisters of Central Indiana! \n\n                            Join the Call\n                      \n        \n      \n    \n  \n\n\n\n\n\n  \n    \n      \n            \n      \n        \n          \n                          \n                About this Event:              \n                                      EVERY WEDNESDAY FROM 6-6:15 PM\nEver thought you could give back to your community? Want to help mentor a young person towards future success? \nJoin this call with a BBBS team member who will paint a picture about what being a Big\, or mentor\, as a part of BBBS of Central Indiana is all about. They’ll answer any questions you have and make sure you know that you have what it takes to Be Big! \n\n                        \n              Join the CallBack to Events
URL:https://www.bebigforkids.org/event/2026-vol-info-evening/2026-04-29/
ATTACH;FMTTYPE=image/jpeg:https://www.bebigforkids.org/wp-content/uploads/2025/02/Big-Brother-Dave-and-Little-Brother-Sean-WEDD3439-scaled.jpg
END:VEVENT
BEGIN:VEVENT
DTSTART;TZID=America/Indiana/Indianapolis:20260429T180000
DTEND;TZID=America/Indiana/Indianapolis:20260429T193000
DTSTAMP:20260420T080901
CREATED:20260216T144802Z
LAST-MODIFIED:20260216T144803Z
UID:10000306-1777485600-1777491000@www.bebigforkids.org
SUMMARY:Match Activity: April Canvas Painting
DESCRIPTION:October              03              \, 2026            \n            The Main Event          \n            \nJoin us at BBBSCI for a canvas painting activity\, led by Purple Palette!\n\n\n                            Email Us to Learn More\n                      \n        \n      \n    \n  \n\n\n\n\n\nLearn more:\n\n\n\nJoin other BBBSCI Matches in a special canvas painting activity\, led by our friends at Purple Palette! Come for the pizza and vibes\, leave with a painting you created! \n\n\n\nAll skill levels welcome!
URL:https://www.bebigforkids.org/event/match-activity-april-canvas-painting/
ATTACH;FMTTYPE=image/jpeg:https://www.bebigforkids.org/wp-content/uploads/2026/02/spring-canvas-painting.jpg
END:VEVENT
END:VCALENDAR